Workbook

Sheet Intro & Information
B2: #VALUE! | C2: #VALUE!
B3: Welcome to the profitable cow calculator. The aim of the following calculator is to be used as a tool to determine the potential profitability of your herd based on a calf margin over feed costs. Some useful production benchmarks can also be calculated such as cow efficiency and value of calf at weaning. The calculator also includes a handy suckler ration and cost calculator tool allowing rations to be checked.
B8: Suggested Scenarios | C8: Housed Vs Outwintered, Autumn Vs Spring Calving Cows, Comparing cows of different body weight, comparing performance on farm by breed, comparing cows summered on different systems or performance of calves feeding creep or not.
B9: Filled Cells | C9: Data Input (all other cells are locked)
B11: Data Input Tab | C11: Description
B12: Average Suckler Weight (kg) | C12: Weight of the suckler cow at weaning (kg)
B13: Stage of Production | C13: Dry or Lactation - Please use drop down menu
B14: Ration Cost (£/cow/day) | C14: Total Ration cost (Forage + Any other feeds & Minerals (£/cow/day) - Can be calculated using the ration tab
B15: Ration Dry Matter as rationed (kg) | C15: Dry Matter (in Kg) of the suckler ration (as an average)
B16: Ration cost / kg DM | C16: Ration cost £/kg DM consumed - Self Calculating
B17: Predicted Daily Dry Matter Intake (kg) | C17: Based on predicted intake as a % of liveweight for stage of production.
B18: Length of time housed/wintered | C18: Number of days on wintering system (either housed or outwinted)
B19: Total number of sucklers in system | C19: Total cows on farm
B20: Bedding Costs (£/day) | C20: Total bedding costs in £/day if applicable
... B33: Calf Costs to weaning | C33: Additional cost to keep calf till weaning above costs of keeping the dam (£)

Sheet Data Input
B2: #VALUE! | C2: #VALUE!
B4: Scenario ID 1 | C4: Home Outside Wintering 700kg | D4: Inside Home Wintering 700kg | E4: Home Outside Wintering 600kg | F4: Inside Home Wintering 600kg | H4: Coloured boxes = Data input
B6: Suckler Details
B7: Average Suckler Weight (kg) | C7: 700 | D7: 700 | E7: 600 | F7: 600
B8: Stage of Production | C8: Dry | D8: Dry | E8: Dry | F8: Dry
B9: Ration Cost (£/cow/day) | C9: 2.12 | D9: 2.12 | E9: 2 | F9: 2
B10: Ration Dry Matter as rationed (kg) | C10: 10.7 | D10: 10.7 | E10: 9.8 | F10: 9.8
B11: Ration cost / kg DM | C11: =IFERROR(C9/C10,0) -> 0.19813084 | D11: =IFERROR(D9/D10,0) -> 0.19813084 | E11: =IFERROR(E9/E10,0) -> 0.20408163 | F11: =IFERROR(F9/F10,0) -> 0.20408163
B12: Predicted Daily Dry Matter Intake (kg) | C12: =IF(C8='Background Data'!$A$2,C7*0.015,C7*0.02) -> 10.5 | D12: =IF(D8='Background Data'!$A$2,D7*0.015,D7*0.02) -> 10.5 | E12: =IF(E8='Background Data'!$A$2,E7*0.015,E7*0.02) -> 9 | F12: =IF(F8='Background Data'!$A$2,F7*0.015,F7*0.02) -> 9
B13: Length of time housed/wintered (Days) | C13: 120 | D13: 120 | E13: 120 | F13: 120
B14: Total number of sucklers in system | C14: 10 | D14: 10 | E14: 10 | F14: 10
B15: Bedding Costs (£/day) | C15: 0 | D15: 0.26 | E15: 0 | F15: 0.26
B18: Calf Details
B19: Calf Weight at Weaning (200days) (kg) | C19: 0 | D19: 0 | E19: 0 | F19: 0
B20: Feed costs to weaning (£/calf/day) | C20: 0 | D20: 0 | E20: 0 | F20: 0
B21: Length of feeding time (Days) | C21: 0 | D21: 0 | E21: 0 | F21: 0
B22: Calf Value at weaning (ppkg) | C22: 0 | D22: 0 | E22: 0 | F22: 0
B25: Calf margin over feed costs* | C25: ='Output - Profitability'!C17-('Output - Profitability'!C10+'Output - Profitability'!C18) -> -249.64486 | D25: ='Output - Profitability'!D17-('Output - Profitability'!D10+'Output - Profitability'!D18) -> -252.76486 | E25: ='Output - Profitability'!E17-('Output - Profitability'!E10+'Output - Profitability'!E18) -> -220.40816 | F25: ='Output - Profitability'!F17-('Output - Profitability'!F10+'Output - Profitability'!F18) -> -223.52816
B27: *please note that the calf margin over feed cost value does not include any other costs other than bedding. Fuel, machinery, electricity, labour, vet/med, rent & sundries should also be considered for a full enterprise costing

Sheet Output - Profitability
B2: #VALUE! | C2: #VALUE!
B4: ID | C4: ='Data Input'!C4 -> Home Outside Wintering 700kg | D4: ='Data Input'!D4 -> Inside Home Wintering 700kg | E4: ='Data Input'!E4 -> Home Outside Wintering 600kg | F4: ='Data Input'!F4 -> Inside Home Wintering 600kg
B6: Suckler Costs
B7: Daily Ration Cost (£/cow/day) | C7: ='Data Input'!C12*'Data Input'!C11 -> 2.0803738 | D7: ='Data Input'!D12*'Data Input'!D11 -> 2.0803738 | E7: ='Data Input'!E12*'Data Input'!E11 -> 1.8367347 | F7: ='Data Input'!F12*'Data Input'!F11 -> 1.8367347
B8: Total Daily Costs (£/cow/day) | C8: =IFERROR(C7+('Data Input'!C15/'Data Input'!C14),0) -> 2.0803738 | D8: =IFERROR(D7+('Data Input'!D15/'Data Input'!D14),0) -> 2.1063738 | E8: =IFERROR(E7+('Data Input'!E15/'Data Input'!E14),0) -> 1.8367347 | F8: =IFERROR(F7+('Data Input'!F15/'Data Input'!F14),0) -> 1.8627347
B9: Ration Cost (whole winter/cow) (£) | C9: =C7*'Data Input'!$C$13 -> 249.64486 | D9: =D7*'Data Input'!$D$13 -> 249.64486 | E9: =E7*'Data Input'!$D$13 -> 220.40816 | F9: =F7*'Data Input'!$D$13 -> 220.40816
B10: Total Costs (whole winter/cow) (£) | C10: =C8*'Data Input'!$C$13 -> 249.64486 | D10: =D8*'Data Input'!$D$13 -> 252.76486 | E10: =E8*'Data Input'!$D$13 -> 220.40816 | F10: =F8*'Data Input'!$D$13 -> 223.52816
B11: Total Herd Costs (whole winter/herd) (£) | C11: =C10*'Data Input'!C14 -> 2496.4486 | D11: =D10*'Data Input'!D14 -> 2527.6486 | E11: =E10*'Data Input'!E14 -> 2204.0816 | F11: =F10*'Data Input'!F14 -> 2235.2816
B13: Suckler Performance
B14: Cow Efficiency | C14: =IFERROR('Data Input'!$C$19/'Data Input'!$C$7,0) -> 0 | D14: =IFERROR('Data Input'!$D$19/'Data Input'!$D$7,0) -> 0 | E14: =IFERROR('Data Input'!$E$19/'Data Input'!$E$7,0) -> 0 | F14: =IFERROR('Data Input'!$F$19/'Data Input'!$F$7,0) -> 0
B16: Calf
B17: Calf Value at Weaning (£/calf) | C17: =('Data Input'!C19*'Data Input'!C22)/100 -> 0 | D17: =('Data Input'!D19*'Data Input'!D22)/100 -> 0 | E17: =('Data Input'!E19*'Data Input'!E22)/100 -> 0 | F17: =('Data Input'!F19*'Data Input'!F22)/100 -> 0
B18: Calf Costs to weaning (£/calf) | C18: ='Data Input'!C20*'Data Input'!C21 -> 0 | D18: ='Data Input'!D20*'Data Input'!D21 -> 0 | E18: ='Data Input'!E20*'Data Input'!E21 -> 0 | F18: ='Data Input'!F20*'Data Input'!F21 -> 0
B21: Calf margin over feed costs* | C21: =C17-(C10+C18) -> -249.64486 | D21: =D17-(D10+D18) -> -252.76486 | E21: =E17-(E10+E18) -> -220.40816 | F21: =F17-(F10+F18) -> -223.52816
B22: Margin over feed cost (whole herd) | C22: =('Output - Profitability'!C17*'Data Input'!C14)-(C11+(C18*'Data Input'!C14)) -> -2496.4486 | D22: =('Output - Profitability'!D17*'Data Input'!D14)-(D11+(D18*'Data Input'!D14)) -> -2527.6486 | E22: =('Output - Profitability'!E17*'Data Input'!E14)-(E11+(E18*'Data Input'!E14)) -> -2204.0816 | F22: =('Output - Profitability'!F17*'Data Input'!F14)-(F11+(F18*'Data Input'!F14)) -> -2235.2816
B24: *please note that the calf margin over feed cost value does not include any other costs other than bedding such as Fuel, machinery, electricity, labour, vet/med, rent etc that all should also be considered in full enterprise costings.

Sheet Ration & Cost Calculator
B2: #VALUE! | D2: #VALUE!
B4: Cow Weight | C4: 600 | D4: kg | K4: Coloured boxes = Data input
B5: Stage of Production | C5: Dry
B6: Cow DMI (Dry) | C6: =IF('Background Data'!A2=C5,C4*0.015,C4*0.02) -> 9 | D6: kg/day
B10: Feed | C10: kg/cow/day | D10: kg DM/day | E10: Dry Matter (%) | F10: ME (MJ/kg DM) | G10: Crude Protein (% DM) | H10: Cost of feed £/T | I10: £/cow/day
B11: Forage 1 | C11: 28 | D11: =C11*E11 -> 8.4 | E11: 0.3 | F11: 10.6 | G11: 0.13 | H11: 40 | I11: =((H11/1000)*C11) -> 1.12
B12: Forage 2 | D12: =C12*E12 -> 0 | I12: =((H12/1000)*C12) -> 0
B13: Forage 3 | D13: =C13*E13 -> 0 | I13: =((H13/1000)*C13) -> 0 | K13: Ration output | L13: Actual | M13: Target
B14: Wholecrop | D14: =C14*E14 -> 0 | I14: =((H14/1000)*C14) -> 0 | K14: Total DMI (kg/cow) | L14: =SUM(D11:D20) -> 9.8 | M14: =C6 -> 9
B15: Straw | D15: =C15*E15 -> 0 | E15: 0.88 | F15: 6.5 | G15: 0.04 | I15: =((H15/1000)*C15) -> 0 | K15: Total MJ intake* | L15: =(F11*D11)+(F12*D12)+(F13*D13)+(F14*D14)+(F15*D15)+(F16*D16)+(F17*D17)+(F18*D18)+(F19*D19)+(F20*D20) -> 105.84 | M15: =IF('Background Data'!A2='Ration & Cost Calculator'!C5,((C4/10)+20),((C4/10)+50)) -> 80
B16: Concentrate | C16: 2 | D16: =C16*E16 -> 1.4 | E16: 0.7 | F16: 12 | G16: 0.16 | H16: 440 | I16: =((H16/1000)*C16) -> 0.88 | K16: Crude protein % DM | L16: =((((G11*D11)+(G12*D12)+(G13*D13)+(G14*D14)+(G15*D15)+(G16*D16)+(G17*D17)+(G18*D18)+(G19*D19)+(G20*D20))/L14)*100) -> 13.428571 | M16: =IF('Background Data'!A2='Ration & Cost Calculator'!C5,9,12) -> 9
B17: Concentrate | D17: =C17*E17 -> 0 | I17: =((H17/1000)*C17) -> 0 | K17: *please note this is a rough guide and may differ depending on cow condition and proximity to calving or stage or lactation for a more accurate prediction please contact your nutritionist.
B18: Liquid feed (e.g. molasses. pot ale) | D18: =C18*E18 -> 0 | I18: =((H18/1000)*C18) -> 0
B19: Other? E.g. draff? | D19: =C19*E19 -> 0 | I19: =((H19/1000)*C19) -> 0
B20: Minerals | D20: =C20*E20 -> 0 | E20: 0.98 | F20: 0 | G20: 0 | I20: =((H20/1000)*C20) -> 0
F23: Total ration cost £/cow/day | I23: =SUM(I11:I20) -> 2

Sheet Background Data
A1: Stage of Production | B1: Percentage DMI of BW
A2: Dry | B2: 1.5
A3: Lactation | B3: 2
